BEGIN:VCALENDAR
VERSION:2.0
CALSCALE:GREGORIAN
PRODID:-//Diputació de Barcelona//DibaCMS//EN
BEGIN:VEVENT
UID:2544
DTSTAMP:20260424T230827
DTSTART:20211228T000000
DTEND:20211228T000000
SUMMARY:Recollida "de Resta" servei Porta a Porta mes de Desembre
LOCATION:
METHOD:PUBLISH
X-WR-CALNAME:guardiola@diba.cat
X-WR-TIMEZONE:Europe/Madrid
DESCRIPTION:
URI:http://www.guardioladebergueda.cat/actualitat/agenda/recollida-de-resta-servei-porta-a-porta-mes-de-desembre.html
CLASS:PUBLIC
END:VEVENT
END:VCALENDAR
