BEGIN:VCALENDAR
VERSION:2.0
CALSCALE:GREGORIAN
PRODID:-//Diputació de Barcelona//DibaCMS//EN
BEGIN:VEVENT
UID:4252
DTSTAMP:20260421T111543
DTSTART:20260309T093000
DTEND:20260309T110000
SUMMARY:Grup psicoeducatiu de gestió de l'ansietat 
LOCATION:
METHOD:PUBLISH
X-WR-CALNAME:guardiola@diba.cat
X-WR-TIMEZONE:Europe/Madrid
DESCRIPTION:
URI:http://www.guardioladebergueda.cat/actualitat/agenda/4252-grup-psicoeducatiu-de-gestio-de-lansietat-.html
CLASS:PUBLIC
END:VEVENT
END:VCALENDAR
