BEGIN:VCALENDAR
VERSION:2.0
CALSCALE:GREGORIAN
PRODID:-//Diputació de Barcelona//DibaCMS//EN
BEGIN:VEVENT
UID:2903
DTSTAMP:20260421T223626
DTSTART:20230701T190000
DTEND:20230701T203000
SUMMARY:Cello i piano ACOUHYB DeLis Duo - Monestir de Sant Llorenç
LOCATION:Camí de  Sant Llorenç, s/n 08694 Guardiola de Berguedà
METHOD:PUBLISH
X-WR-CALNAME:guardiola@diba.cat
X-WR-TIMEZONE:Europe/Madrid
DESCRIPTION:Monestir de Sant Llorenç

Cello i piano ACOUHYB
DeLis Duo

1 de juliol, 19 hores

URI:https://www.guardioladebergueda.cat/actualitat/agenda/cello-i-piano-acouhyb-delis-duo-monestir-de-sant-llorenc.html
CLASS:PUBLIC
END:VEVENT
END:VCALENDAR
