BEGIN:VCALENDAR
VERSION:2.0
CALSCALE:GREGORIAN
PRODID:-//Diputació de Barcelona//DibaCMS//EN
BEGIN:VEVENT
UID:3330
DTSTAMP:20260419T212645
DTSTART:20240601T000000
DTEND:20240630T000000
SUMMARY:Calendari Recollida porta a porta juny i resta
LOCATION:
METHOD:PUBLISH
X-WR-CALNAME:guardiola@diba.cat
X-WR-TIMEZONE:Europe/Madrid
DESCRIPTION:Dies recollida resta dies 11 i 25 de juny

URI:https://www.guardioladebergueda.cat/actualitat/agenda/calendari-recollida-porta-a-porta-juny-i-resta.html
CLASS:PUBLIC
END:VEVENT
END:VCALENDAR
