BEGIN:VCALENDAR
VERSION:2.0
CALSCALE:GREGORIAN
PRODID:-//Diputació de Barcelona//DibaCMS//EN
BEGIN:VEVENT
UID:3544
DTSTAMP:20260421T101233
DTSTART:20241030T090000
DTEND:20241030T100000
SUMMARY:Taller de Ioga - Llar d'avis 
LOCATION:C/Comerç, 2 08694 Guardiola de Berguedà
METHOD:PUBLISH
X-WR-CALNAME:guardiola@diba.cat
X-WR-TIMEZONE:Europe/Madrid
DESCRIPTION:
URI:https://www.guardioladebergueda.cat/actualitat/agenda/3544-taller-de-ioga-llar-davis-.html
CLASS:PUBLIC
END:VEVENT
END:VCALENDAR
