BEGIN:VCALENDAR
VERSION:2.0
CALSCALE:GREGORIAN
PRODID:-//Diputació de Barcelona//DibaCMS//EN
BEGIN:VEVENT
UID:3582
DTSTAMP:20260424T200534
DTSTART:20241026T170000
DTEND:20241026T183000
SUMMARY:Viu el Circ 
LOCATION:
METHOD:PUBLISH
X-WR-CALNAME:guardiola@diba.cat
X-WR-TIMEZONE:Europe/Madrid
DESCRIPTION:Dissabte 26 d'octubre a les 17.00h, a la plaça Joan Arocas 

"Back 2 classics" Cia Planeta Trampolí 

URI:https://www.guardioladebergueda.cat/actualitat/agenda/3582-viu-el-circ-.html
CLASS:PUBLIC
END:VEVENT
END:VCALENDAR
