BEGIN:VCALENDAR
VERSION:2.0
CALSCALE:GREGORIAN
PRODID:-//Diputació de Barcelona//DibaCMS//EN
BEGIN:VEVENT
UID:4262
DTSTAMP:20260422T105208
DTSTART:20260411T190000
DTEND:20260411T203000
SUMMARY:Monestir de Sant Llorenç - Espectacle "Clàssics tocats per flautes Quartet Fix"
LOCATION:Camí de  Sant Llorenç, s/n 08694 Guardiola de Berguedà
METHOD:PUBLISH
X-WR-CALNAME:guardiola@diba.cat
X-WR-TIMEZONE:Europe/Madrid
DESCRIPTION:Clàssics tocats per flautes
Quartet Fix

11 d’abril, 19:00 hores

 

URI:https://www.guardioladebergueda.cat/actualitat/agenda/monestir-de-sant-llorenc-espectacle-classics-tocats-per-flautes-quartet-fix.html
CLASS:PUBLIC
END:VEVENT
END:VCALENDAR
